BEGIN:VCALENDAR
VERSION:2.0
PRODID:-//2021 AHA Annual Conference - ECPv2.0.10//NONSGML v1.0//EN
CALSCALE:GREGORIAN
METHOD:PUBLISH
X-WR-CALNAME:2021 AHA Annual Conference
X-ORIGINAL-URL:https://conference.americanhumanist.org
X-WR-CALDESC:Events for 2021 AHA Annual Conference
X-WR-TIMEZONE:America/New_York
BEGIN:VEVENT
DTSTART;VALUE=DATE-TIME:20130530T193000
DTEND;VALUE=DATE-TIME:20130530T213000.000000
DTSTAMP:20210512T064642
CREATED:20130513T154520
LAST-MODIFIED:20130513T154635
UID:17370-1369942200-@https://conference.americanhumanist.org
SUMMARY:UnitedCoR Evening Activity
DESCRIPTION:An informal discussion with Joseph Stewart and Fred Edwords of UnitedCoR\, moderators
LOCATION:The Bahia Hotel, San Diego, United States
URL:https://conference.americanhumanist.org/index.php/event/evening-activities-informal-discussion
END:VEVENT
END:VCALENDAR